BEGIN:VCALENDAR
VERSION:2.0
PRODID:-//ChurchDev//Events//EN
CALSCALE:GREGORIAN
METHOD:PUBLISH
BEGIN:VEVENT
UID:5173-20260401@www.myetzchayim.org
SUMMARY:ETZ CHAYIM HAS MOVED TO A NEW LOCATION!
DTSTART:20260401T040000Z
DTEND:20260401T155900Z
DESCRIPTION:   Shalom\, Etz Chayim Messianic Synagogue has moved to a new location at 1725 Parker Rd\, Lakeland\, FL 33811. Our first Shabbat Service is on April 11\, 2026\, at 11:00am. We would love for you to join us as we worship Yeshua\, the Jewish Messiah and the Redeemer of the world.\\nEtz Chayim on Google Maps\\n\\n\\n&nbsp\;\\n\\nhttps://www.myetzchayim.org/events/etz-chayim-has-moved-to-a-new-location/
LOCATION:1725 Parker Rd\, Lakeland\, FL 33811
URL:https://www.myetzchayim.org/events/etz-chayim-has-moved-to-a-new-location/
DTSTAMP:20260420T024643Z
END:VEVENT
END:VCALENDAR
